BEGIN:VCALENDAR
VERSION:2.0
PRODID:-//Central Coast Conservatorium of Music - ECPv6.15.17//NONSGML v1.0//EN
CALSCALE:GREGORIAN
METHOD:PUBLISH
X-WR-CALNAME:Central Coast Conservatorium of Music
X-ORIGINAL-URL:https://centralcoastconservatorium.com.au
X-WR-CALDESC:Events for Central Coast Conservatorium of Music
REFRESH-INTERVAL;VALUE=DURATION:PT1H
X-Robots-Tag:noindex
X-PUBLISHED-TTL:PT1H
BEGIN:VTIMEZONE
TZID:Australia/Sydney
BEGIN:STANDARD
TZOFFSETFROM:+1100
TZOFFSETTO:+1000
TZNAME:AEST
DTSTART:20240406T160000
END:STANDARD
BEGIN:DAYLIGHT
TZOFFSETFROM:+1000
TZOFFSETTO:+1100
TZNAME:AEDT
DTSTART:20241005T160000
END:DAYLIGHT
BEGIN:STANDARD
TZOFFSETFROM:+1100
TZOFFSETTO:+1000
TZNAME:AEST
DTSTART:20250405T160000
END:STANDARD
BEGIN:DAYLIGHT
TZOFFSETFROM:+1000
TZOFFSETTO:+1100
TZNAME:AEDT
DTSTART:20251004T160000
END:DAYLIGHT
BEGIN:STANDARD
TZOFFSETFROM:+1100
TZOFFSETTO:+1000
TZNAME:AEST
DTSTART:20260404T160000
END:STANDARD
BEGIN:DAYLIGHT
TZOFFSETFROM:+1000
TZOFFSETTO:+1100
TZNAME:AEDT
DTSTART:20261003T160000
END:DAYLIGHT
END:VTIMEZONE
BEGIN:VEVENT
DTSTART;TZID=Australia/Sydney:20250823T194500
DTEND;TZID=Australia/Sydney:20250823T210000
DTSTAMP:20260420T005242
CREATED:20250721T022548Z
LAST-MODIFIED:20250818T033113Z
UID:4543-1755978300-1755982800@centralcoastconservatorium.com.au
SUMMARY:Central Coast Philharmonia & Central Coast Youth Orchestra | Requiem for the Living
DESCRIPTION:Requiem for the Living is a choral composition in five movements by Dan Forrest\, completed in 2013\, an extended setting of the Requiem. The composer writes that his piece tells “a narrative just as much for the living\, and their own struggle with pain and sorrow\, as for the dead.” \n\n\nBe prepared to let this music speak to your heart and to allow the silence to hover over you. The musical score lays groundwork passion with careful crafting of the forces arranged in a composition that makes this 40-minute work become an extended prayer for healing. \n\nThe Central Coast Philharmonia combines with the Central Coast Youth Orchestra to pour their musical gifts into this work under the amazing hand of Patrick Brennan.\n\nA musical endeavour that is needed in the world today in times of grief and unrest – Requiem for the Living will hover over you transporting the listener on a journey of healing and peace. \nConcert Details \n\nDate: Saturday 23 August 2025\nTime: 7:45 PM\nLocation: St John the Baptist Catholic Church – 125 Blackwall Road\, Woy Woy\nTickets: Requiem for the Living \n 
URL:https://centralcoastconservatorium.com.au/event/central-coast-philharmonia-central-coast-youth-orchestra-requiem-for-the-living/
LOCATION:St John the Baptist Catholic Church\, Blackwall Road\, Woy Woy\, NSW\, 2256\, Australia
ATTACH;FMTTYPE=image/jpeg:https://centralcoastconservatorium.com.au/wp-content/uploads/2024/07/2023.12.02-21.09.16-Blackwall-NSW-IMG_1146-1024x768-1.jpg
END:VEVENT
END:VCALENDAR