BEGIN:VCALENDAR
VERSION:2.0
PRODID:-//Central Coast Conservatorium of Music - ECPv6.15.17//NONSGML v1.0//EN
CALSCALE:GREGORIAN
METHOD:PUBLISH
X-ORIGINAL-URL:https://centralcoastconservatorium.com.au
X-WR-CALDESC:Events for Central Coast Conservatorium of Music
REFRESH-INTERVAL;VALUE=DURATION:PT1H
X-Robots-Tag:noindex
X-PUBLISHED-TTL:PT1H
BEGIN:VTIMEZONE
TZID:Australia/Sydney
BEGIN:STANDARD
TZOFFSETFROM:+1100
TZOFFSETTO:+1000
TZNAME:AEST
DTSTART:20240406T160000
END:STANDARD
BEGIN:DAYLIGHT
TZOFFSETFROM:+1000
TZOFFSETTO:+1100
TZNAME:AEDT
DTSTART:20241005T160000
END:DAYLIGHT
BEGIN:STANDARD
TZOFFSETFROM:+1100
TZOFFSETTO:+1000
TZNAME:AEST
DTSTART:20250405T160000
END:STANDARD
BEGIN:DAYLIGHT
TZOFFSETFROM:+1000
TZOFFSETTO:+1100
TZNAME:AEDT
DTSTART:20251004T160000
END:DAYLIGHT
BEGIN:STANDARD
TZOFFSETFROM:+1100
TZOFFSETTO:+1000
TZNAME:AEST
DTSTART:20260404T160000
END:STANDARD
BEGIN:DAYLIGHT
TZOFFSETFROM:+1000
TZOFFSETTO:+1100
TZNAME:AEDT
DTSTART:20261003T160000
END:DAYLIGHT
END:VTIMEZONE
BEGIN:VEVENT
DTSTART;TZID=Australia/Sydney:20251031T173000
DTEND;TZID=Australia/Sydney:20251031T183000
DTSTAMP:20260420T021046
CREATED:20251021T030434Z
LAST-MODIFIED:20251021T030434Z
UID:4717-1761931800-1761935400@centralcoastconservatorium.com.au
SUMMARY:Gossy Weekender: 2025 VIP Launch Party
DESCRIPTION:You’re invited to celebrate the launch of Gossy Weekender 2025! We’re lighting up the streets again for another unforgettable celebration of live music\, art\, and community in Gosford!\nJoin us for an exclusive VIP Launch Party at the Central Coast Conservatorium of Music on Friday 31 October\, 5:30 – 6:30pm\, with light refreshments and Friday night chilled spring tunes from DJ Moody Tiger Pants.\nThis is a FREE event. Please secure your spot as registrations are limited. \nEvent Details\nLocation: Central Coast Conservatorium – Courtyard\nDate: Friday 31 October 2025\nTime: 5:30 PM – 6:30 PM\nRegistration: VIP Launch Party \nAfterwards\, stay for a special jazz concert featuring Ohh Bee Three with guest Nick Garbett and the Con’s Jazz Ensemble\, or explore one of the other fantastic events happening as part of Gossy Weekender.\nInterested? Click Here \nGossy Weekender\nFriday 31 October – Sunday 2 November 2025\n60+ artists across 20 venues in Gosford CBD\ngossyweekender.com
URL:https://centralcoastconservatorium.com.au/event/gossy-weekender-2025-vip-launch-party/
LOCATION:Central Coast Conservatorium of Music
ATTACH;FMTTYPE=image/webp:https://centralcoastconservatorium.com.au/wp-content/uploads/2025/10/GW_2025_VIP-invite.webp
END:VEVENT
BEGIN:VEVENT
DTSTART;TZID=Australia/Sydney:20251031T183000
DTEND;TZID=Australia/Sydney:20251031T203000
DTSTAMP:20260420T021046
CREATED:20251007T000017Z
LAST-MODIFIED:20251021T030349Z
UID:4683-1761935400-1761942600@centralcoastconservatorium.com.au
SUMMARY:Gossy Weekender: Ohh Bee Three x Nick Garbet + the Conservatorium Jazz Ensemble
DESCRIPTION:Gossy Weekender\, Central Coast Conservatorium and IMCC present: \nThe Ohh Bee Three x Nick Garbet supported by the Conservatorium’s Jazz Ensemble \nDate: Friday\, 31 October \nTime: 6:30pm – 8:30pm \nThe Ohh Bee Three is a dynamic jazz trio featuring top talent from Australia’s music scene. Guitarist Aaron “Baz” Flower brings virtuosic flair from projects like Danaides and his solo work AKA BAZ. Bassist Matthew Lamb adds depth with his versatile style\, shaped by his Sydney Conservatorium training and cross-genre experience. Drummer Toby Hall\, a veteran of 30+ recordings\, rounds out the trio with his rich history of performing alongside jazz greats at international festivals. \nNick Garbet is a celebrated Australian trumpeter\, composer\, and bandleader known for his warm tone and inventive style. A founding member of acclaimed groups like The Vampires and Garfish\, Nick blends jazz with global influences\, earning him the prestigious Freedman Jazz Fellowship in 2018. He has performed internationally and continues to shape Australia’s jazz scene through performance\, recording\, and education. \nThe Central Coast Conservatorium Jazz Ensemble is a diverse performance group open to high school and adult musicians. Under the direction of Ash Turner\, members explore jazz harmony\, improvisation\, and repertoire that includes jazz standards\, blues and soulful grooves. The ensemble performs regularly at public concerts and serves as a platform for emerging local talent to grow as jazz artists. \nThis is a FREE event. Secure your spot using this link: Click Here \n\nGossy Weekender\nFriday 31 October – Sunday 2 November 2025\n60+ artists across 20 venues in Gosford CBD\ngossyweekender.com
URL:https://centralcoastconservatorium.com.au/event/the-ohh-bee-three-x-nick-garbet-supported-by-the-conservatorium-jazz-ensemble/
LOCATION:Central Coast Conservatorium of Music
ATTACH;FMTTYPE=image/png:https://centralcoastconservatorium.com.au/wp-content/uploads/2025/10/The-Ohh-Bee-Three-Nick-Garbet-Gossy-Weekender.png
END:VEVENT
END:VCALENDAR