BEGIN:VCALENDAR
VERSION:2.0
PRODID:-//Central Coast Conservatorium of Music - ECPv6.15.17//NONSGML v1.0//EN
CALSCALE:GREGORIAN
METHOD:PUBLISH
X-ORIGINAL-URL:https://centralcoastconservatorium.com.au
X-WR-CALDESC:Events for Central Coast Conservatorium of Music
REFRESH-INTERVAL;VALUE=DURATION:PT1H
X-Robots-Tag:noindex
X-PUBLISHED-TTL:PT1H
BEGIN:VTIMEZONE
TZID:Australia/Sydney
BEGIN:STANDARD
TZOFFSETFROM:+1100
TZOFFSETTO:+1000
TZNAME:AEST
DTSTART:20250405T160000
END:STANDARD
BEGIN:DAYLIGHT
TZOFFSETFROM:+1000
TZOFFSETTO:+1100
TZNAME:AEDT
DTSTART:20251004T160000
END:DAYLIGHT
BEGIN:STANDARD
TZOFFSETFROM:+1100
TZOFFSETTO:+1000
TZNAME:AEST
DTSTART:20260404T160000
END:STANDARD
BEGIN:DAYLIGHT
TZOFFSETFROM:+1000
TZOFFSETTO:+1100
TZNAME:AEDT
DTSTART:20261003T160000
END:DAYLIGHT
BEGIN:STANDARD
TZOFFSETFROM:+1100
TZOFFSETTO:+1000
TZNAME:AEST
DTSTART:20270403T160000
END:STANDARD
BEGIN:DAYLIGHT
TZOFFSETFROM:+1000
TZOFFSETTO:+1100
TZNAME:AEDT
DTSTART:20271002T160000
END:DAYLIGHT
END:VTIMEZONE
BEGIN:VEVENT
DTSTART;VALUE=DATE:20260321
DTEND;VALUE=DATE:20260329
DTSTAMP:20260420T203028
CREATED:20260313T073403Z
LAST-MODIFIED:20260318T143047Z
UID:4870-1774051200-1774742399@centralcoastconservatorium.com.au
SUMMARY:Open Week | Term 1\, 2026
DESCRIPTION:Find your sound – Central Coast Conservatorium of Music Open Week 2026!\n\n\nSomething special is coming.\nNext week\, the Central Coast Conservatorium of Music will open its doors for a limited series of observation lessons\, pathway trials and a brand-new immersive experience. \nFor one week only\, you’ll be able to: \n\nStep inside real music lessons\nObserve live ensemble rehearsals\nBook trial classes across multiple age groups\nExperience our brand new Percussion Lab\n\n🎟️ BOOKINGS\nAll trial classes are free\, but places are limited. \n👉 See the Full Schedule on our Open Week Page \n💛 WHY JOIN OPEN WEEK?\n✔ Try before you commit\n ✔ Meet our community\n ✔ Build confidence through music\n ✔ Find the right program for you
URL:https://centralcoastconservatorium.com.au/event/open-week-term-1-2026/
LOCATION:Central Coast Conservatorium of Music
ATTACH;FMTTYPE=image/png:https://centralcoastconservatorium.com.au/wp-content/uploads/2026/03/Open-2000-x-1200-px.png
ORGANIZER;CN="Central Coast Conservatorium of Music":MAILTO:events@cccmusic.nsw.edu.au
END:VEVENT
BEGIN:VEVENT
DTSTART;TZID=Australia/Sydney:20260326T190000
DTEND;TZID=Australia/Sydney:20260326T200000
DTSTAMP:20260420T203028
CREATED:20260128T054557Z
LAST-MODIFIED:20260318T142702Z
UID:4847-1774551600-1774555200@centralcoastconservatorium.com.au
SUMMARY:Guitar Department Concert - Term 1\, 2026
DESCRIPTION:About the concert:\nJoin us for an evening of guitar music as students of all ages take the stage in Robert Knox Hall\, performing a vibrant mix of musical styles and genres.\nFeaturing students of Guy Strazz and Steve Smillie\, this concert showcases the dedication and growth of our guitar students. In a relaxed and welcoming setting\, performers will share the music they have been developing throughout the term\, from first-time performers to more experienced students honing their craft.\nIt’s a wonderful opportunity to experience the joy of music and live performance\, as students develop their confidence on stage. \nDate: Thursday\, March 26th\nTime: 7:00PM\nLocation: Robert Knox Hall – 45 Mann Street\, Gosford \nRegistration and Ticket information:\nThis is a free community concert\, open to everyone! Whether you know a performer\, are tempted to become a performer or just love live music\, come along and support the Central Coast Con Guitar students! \nPlease reserve your free ticket via Humanitix as seating is limited. Book Here\nProudly supported by Music Centre Gosford 🎶
URL:https://centralcoastconservatorium.com.au/event/guitar-department-concert-term-1-2026/
LOCATION:Robert Knox Hall\, 45 Mann Street\, Gosford\, NSW\, 2250\, Australia
ATTACH;FMTTYPE=image/png:https://centralcoastconservatorium.com.au/wp-content/uploads/2026/01/Guitar-DEpt-Concert-T12026.png
ORGANIZER;CN="Central Coast Conservatorium of Music":MAILTO:events@cccmusic.nsw.edu.au
END:VEVENT
END:VCALENDAR